BEGIN:VCALENDAR
VERSION:2.0
PRODID:-//CHR Haute Senne - ECPv6.3.3.1//NONSGML v1.0//EN
CALSCALE:GREGORIAN
METHOD:PUBLISH
X-ORIGINAL-URL:https://inscriptionchrhautesenne.be
X-WR-CALDESC:évènements pour CHR Haute Senne
REFRESH-INTERVAL;VALUE=DURATION:PT1H
X-Robots-Tag:noindex
X-PUBLISHED-TTL:PT1H
BEGIN:VTIMEZONE
TZID:Europe/Brussels
BEGIN:DAYLIGHT
TZOFFSETFROM:+0100
TZOFFSETTO:+0200
TZNAME:CEST
DTSTART:20260329T010000
END:DAYLIGHT
BEGIN:STANDARD
TZOFFSETFROM:+0200
TZOFFSETTO:+0100
TZNAME:CET
DTSTART:20261025T010000
END:STANDARD
END:VTIMEZONE
BEGIN:VEVENT
DTSTART;TZID=Europe/Brussels:20260313T130000
DTEND;TZID=Europe/Brussels:20260313T170000
DTSTAMP:20260423T185531
CREATED:20260121T194746Z
LAST-MODIFIED:20260121T194746Z
UID:9878-1773406800-1773421200@inscriptionchrhautesenne.be
SUMMARY:Prêt.e à sauver des vies ? - Atelier urgences
DESCRIPTION:60% des personnes hospitalisées au CHR arrivent en premier aux urgences ! Ce service accueille les patients 7J/7J\, 24H/24H. Sa mission ? Assurer les premiers soins urgents et orienter le patient en fonction de l’urgence et de la pathologie. \nQue trouveras-tu dans cet atelier ? \nUn membre du personnel à fait un arrêt cardiaque\, pourras-tu lui sauver la vie ? \nChaque atelier dure 30 minutes et tu peux t’inscrire à plusieurs ateliers ?
URL:https://inscriptionchrhautesenne.be/event/pret-e-a-sauver-des-vies-atelier-urgences-2/
LOCATION:Salle « Tilleul »\, Tilleriau\, CHR Haute Senne\, Soignies\, Chaussée de Braine\, 49\, Soignies
CATEGORIES:Urgences
ATTACH;FMTTYPE=image/jpeg:https://inscriptionchrhautesenne.be/wp-content/uploads/2022/02/IMG_2795-scaled.jpg
END:VEVENT
END:VCALENDAR